BEGIN:VCALENDAR
VERSION:2.0
PRODID:-//Tukios.com/
BEGIN:VEVENT
UID:e2ceeced-29d8-46c0-95dc-5bf8cff44fb7@www.harperwelchfh.com
DTSTAMP:20260424T195358Z
DTSTART:20260427T150000Z
DTEND:20260427T160000Z
SUMMARY:Mass
DESCRIPTION:
URL:https://www.harperwelchfh.com/obituaries/albelino-sanchez-jr
LOCATION:St. Ann’s Catholic Church 311 West Plum Street  Sonora TX 
	76950
GEO:30.567946;-100.648824
END:VEVENT
END:VCALENDAR