BEGIN:VCALENDAR
VERSION:2.0
PRODID:-//Tukios.com/
BEGIN:VEVENT
UID:0799deac-d444-46c6-ac0f-cde6aa442bf9@www.harperwelchfh.com
DTSTAMP:20260424T194631Z
DTSTART:20260427T150000Z
DTEND:20260427T160000Z
SUMMARY:Burial
DESCRIPTION:
URL:https://www.harperwelchfh.com/obituaries/albelino-sanchez-jr
LOCATION:Sonora Cemetery 516 North Service Road  Sonora TX 76950
GEO:30.5781829;-100.6402058
END:VEVENT
END:VCALENDAR