BEGIN:VCALENDAR
VERSION:2.0
PRODID:-//Tukios.com/
BEGIN:VEVENT
UID:e463c7b6-6831-413e-bf31-8d0baa675a81@www.harperwelchfh.com
DTSTAMP:20260424T194624Z
DTSTART:20260426T150000Z
DTEND:20260427T000000Z
SUMMARY:Viewing
DESCRIPTION:
URL:https://www.harperwelchfh.com/obituaries/albelino-sanchez-jr
LOCATION: 409 SE 2nd St  Sonora TX 76950
GEO:30.5679949;-100.6392578
END:VEVENT
END:VCALENDAR