BEGIN:VCALENDAR
VERSION:2.0
PRODID:-//Tukios.com/
BEGIN:VEVENT
UID:31b407e4-d560-473d-86d9-316b01e372a1@www.harperwelchfh.com
DTSTAMP:20260422T010006Z
DTSTART:20260423T170000Z
DTEND:20260424T000000Z
SUMMARY:Viewing
DESCRIPTION:
URL:https://www.harperwelchfh.com/obituaries/jaedon-chavarria
LOCATION:Harper-Welch Funeral Home - Sonora 409 SE 2nd St  Sonora TX 
	76950
GEO:30.5679949;-100.6392578
END:VEVENT
END:VCALENDAR