BEGIN:VCALENDAR
VERSION:2.0
PRODID:-//Tukios.com/
BEGIN:VEVENT
UID:11a3b38f-b3a5-40c3-8092-d9baf341a240@www.harperwelchfh.com
DTSTAMP:20260422T010419Z
DTSTART:20260424T150000Z
DTEND:20260424T190000Z
SUMMARY:Viewing
DESCRIPTION:
URL:https://www.harperwelchfh.com/obituaries/jaedon-chavarria
LOCATION: 409 SE 2nd St  Sonora TX 76950
GEO:30.5679949;-100.6392578
END:VEVENT
END:VCALENDAR