BEGIN:VCALENDAR
VERSION:2.0
PRODID:-//Tukios.com/
BEGIN:VEVENT
UID:a880cf4f-d29d-4633-be04-e6d1505e991f@www.harperwelchfh.com
DTSTAMP:20260422T005454Z
DTSTART:20260424T190000Z
DTEND:20260424T200000Z
SUMMARY:Service
DESCRIPTION:
URL:https://www.harperwelchfh.com/obituaries/jaedon-chavarria
LOCATION: 409 SE 2nd St  Sonora TX 76950
GEO:30.5679949;-100.6392578
END:VEVENT
END:VCALENDAR